BEGIN:VCALENDAR
VERSION:2.0
PRODID:-//ChamberMaster//Event Calendar 2.0//EN
METHOD:PUBLISH
X-PUBLISHED-TTL:P3D
REFRESH-INTERVAL:P3D
CALSCALE:GREGORIAN
BEGIN:VEVENT
DTSTART:20190331T160000Z
DTEND:20190331T200000Z
X-MICROSOFT-CDO-ALLDAYEVENT:FALSE
SUMMARY:Paint for A Purpose
DESCRIPTION:PAINT FOR A PURPOSE\n\nINVITE YOUR FAMILY AND FRIENDS!  JOIN US FOR A FUN AFTERNOON OF ART! PROCEEDS GO\n\nTOWARDS OUTING COSTS FOR INDIVIDUALS WITH SPECIAL NEEDS.\n\nSUNDAY\, MARCH 31\, 12-2PM AND 2-4PM\n\n$40 PER PERSON\n\nRAYMOUR AND FLANIGAN\n\n1620 Route 22\, Watchung\n\nREGISTER TODAY by email to glevy@arcunion.org\nInvite your family and friends for \n\nan inclusive paint party \n\nALL ages\, ALL abilities welcome!\n\n \n\nhttp://arcunion.org/paint
X-ALT-DESC;FMTTYPE=text/html:<h1 style="text-align:center"><strong><span style="color:rgb(234\, 113\, 37)">PAINT FOR A PURPOSE</span></strong></h1>\n\n<h4 style="text-align:center"><strong><span style="color:rgb(92\, 43\, 132)">INVITE</span></strong>&nbsp\;<span style="color:rgb(0\, 0\, 0)"><strong>YOUR FAMILY AND FRIENDS!&nbsp\;&nbsp\;<span style="color:rgb(92\, 43\, 132)">JOIN</span>&nbsp\;US FOR A FUN AFTERNOON OF ART! PROCEEDS GO</strong></span></h4>\n\n<h4 style="text-align:center"><span style="color:rgb(0\, 0\, 0)"><strong>TOWARDS OUTING COSTS FOR INDIVIDUALS WITH SPECIAL NEEDS.</strong></span></h4>\n\n<h4 style="text-align:center"><span style="color:rgb(234\, 113\, 37)">S<strong>UNDAY\, MARCH 31\, 12-2PM AND 2-4PM</strong></span></h4>\n\n<h4 style="text-align:center"><span style="color:rgb(234\, 113\, 37)"><strong>$40 PER PERSON</strong></span></h4>\n\n<h4 style="text-align:center"><strong><span style="color:rgb(0\, 0\, 0)">RAYMOUR AND FLANIGAN</span></strong></h4>\n\n<p style="text-align:center"><strong><span style="color:rgb(0\, 0\, 0)">1620 Route 22\, Watchung</span></strong></p>\n\n<p style="text-align:center"><span style="color:rgb(92\, 43\, 132)"><strong>REGISTER TODAY by email to glevy@arcunion.org</strong></span></p>\n<strong><span style="font-family:trebuchet ms"><span style="font-size:15.0pt">Invite your family and friends for </span></span></strong><br />\n<strong><span style="font-family:trebuchet ms"><span style="font-size:15.0pt">an inclusive paint party&mdash\;</span></span></strong><br />\n<strong><span style="font-family:trebuchet ms"><span style="font-size:15.0pt">ALL ages\, ALL abilities welcome!</span></span></strong><br />\n&nbsp\;<br />\n<a href="http://arcunion.org/paint">http://arcunion.org/paint</a>
LOCATION:RAYMOUR AND FLANIGAN 1620 Route 22\, Watchung
UID:e.870.15404
SEQUENCE:3
DTSTAMP:20260420T034329Z
URL:https://business.suburbanchambers.org/events/details/paint-for-a-purpose-15404
END:VEVENT

END:VCALENDAR
