BEGIN:VCALENDAR
VERSION:2.0
PRODID:-//ChamberMaster//Event Calendar 2.0//EN
METHOD:PUBLISH
X-PUBLISHED-TTL:P3D
REFRESH-INTERVAL:P3D
CALSCALE:GREGORIAN
BEGIN:VEVENT
DTSTART:20190224T210000Z
DTEND:20190224T223000Z
X-MICROSOFT-CDO-ALLDAYEVENT:FALSE
SUMMARY:Organ Duet: 4 Hands and 4 Feet
DESCRIPTION:Calvary Church Organist Kevin Davis will be accompanied by Jeffrey Clearman in a rousing and entertaining Organ Duet: 4 Hands and 4 Feet.  The program will include Duet in C Major by Samuel Wesley\, Veni Creator Spiritus by Rayner Brown\, and For All the Saints and The Emerald Isle by Charles Callahan.  Open to the public
X-ALT-DESC;FMTTYPE=text/html:Calvary Church Organist Kevin Davis will be accompanied by Jeffrey Clearman in&nbsp\;a&nbsp\;rousing and entertaining Organ Duet: 4 Hands and 4 Feet.&nbsp\;&nbsp\;The&nbsp\;program will include Duet in C Major by Samuel Wesley\, Veni Creator Spiritus by Rayner Brown\, and For All&nbsp\;the&nbsp\;Saints and&nbsp\;The&nbsp\;Emerald Isle by Charles Callahan.&nbsp\;&nbsp\;Open to&nbsp\;the&nbsp\;public
LOCATION:Calvary Church 31 Woodland Ave. Summit\, NJ
UID:e.870.15243
SEQUENCE:3
DTSTAMP:20260420T114519Z
URL:https://business.suburbanchambers.org/events/details/organ-duet-4-hands-and-4-feet-15243
END:VEVENT

END:VCALENDAR
