BEGIN:VCALENDAR
VERSION:2.0
PRODID:-//ChamberMaster//Event Calendar 2.0//EN
METHOD:PUBLISH
X-PUBLISHED-TTL:P3D
REFRESH-INTERVAL:P3D
CALSCALE:GREGORIAN
BEGIN:VEVENT
DTSTART:20181012T233000Z
DTEND:20181013T023000Z
X-MICROSOFT-CDO-ALLDAYEVENT:FALSE
SUMMARY:Open Stage at the Minstrel
DESCRIPTION:Join us at our new Open Stage. We have two performance spaces to accommodate more performers. Please check website for signup procedures.
X-ALT-DESC;FMTTYPE=text/html:Join us at our new Open Stage. We have two performance spaces to accommodate more performers. Please check website for signup procedures.
LOCATION:Morristown Unitarian Fellowship 21 Normandy Heights Road Morristown\, NJ 07960
UID:e.870.14396
SEQUENCE:3
DTSTAMP:20260420T220455Z
URL:https://business.suburbanchambers.org/events/details/open-stage-at-the-minstrel-10-12-2018-14396
END:VEVENT

END:VCALENDAR
