BEGIN:VCALENDAR
VERSION:2.0
PRODID:-//ChamberMaster//Event Calendar 2.0//EN
METHOD:PUBLISH
X-PUBLISHED-TTL:P3D
REFRESH-INTERVAL:P3D
CALSCALE:GREGORIAN
BEGIN:VEVENT
DTSTART:20180914T233000Z
DTEND:20180915T023000Z
X-MICROSOFT-CDO-ALLDAYEVENT:FALSE
SUMMARY:Open Stage at the Minstrel
DESCRIPTION:Come see our revamped Open Stage! Two stages! All ages welcome! Performers please check website for signup procedures. Free parking\; wheelchair accessible.
X-ALT-DESC;FMTTYPE=text/html:Come see our revamped Open Stage! Two stages! All ages welcome! Performers please check website for signup procedures. Free parking\; wheelchair accessible.
LOCATION:Morristown Unitarian Fellowship 21 Normandy Heights Road Morristown\, NJ 07960
UID:e.870.14298
SEQUENCE:3
DTSTAMP:20260421T041449Z
URL:https://business.suburbanchambers.org/events/details/open-stage-at-the-minstrel-09-14-2018-14298
END:VEVENT

END:VCALENDAR
