BEGIN:VCALENDAR
VERSION:2.0
PRODID:-//ChamberMaster//Event Calendar 2.0//EN
METHOD:PUBLISH
X-PUBLISHED-TTL:P3D
REFRESH-INTERVAL:P3D
CALSCALE:GREGORIAN
BEGIN:VEVENT
DTSTART:20190412T233000Z
DTEND:20190413T023000Z
X-MICROSOFT-CDO-ALLDAYEVENT:FALSE
SUMMARY:Open Stage at the Minstrel
DESCRIPTION:Free parking\; wheelchair accessible.
X-ALT-DESC;FMTTYPE=text/html:Free parking\; wheelchair accessible.
LOCATION:Morristown Unitarian Fellowship 21 Normandy Heights Road Morristown\, NJ 07960
UID:e.870.15371
SEQUENCE:3
DTSTAMP:20260419T235142Z
URL:https://business.suburbanchambers.org/events/details/open-stage-at-the-minstrel-04-12-2019-15371
END:VEVENT

END:VCALENDAR
