BEGIN:VCALENDAR
VERSION:2.0
PRODID:-//ChamberMaster//Event Calendar 2.0//EN
METHOD:PUBLISH
X-PUBLISHED-TTL:P3D
REFRESH-INTERVAL:P3D
CALSCALE:GREGORIAN
BEGIN:VEVENT
DTSTART:20190309T003000Z
DTEND:20190309T033000Z
X-MICROSOFT-CDO-ALLDAYEVENT:FALSE
SUMMARY:Open Stage at the Minstrel
DESCRIPTION:A chance to hear a wide variety of music. Performers of all ages welcome. Please check website for signup procedure. This month's featured act will be Zeke and Maria. Wheelchair accessible\; free parking.
X-ALT-DESC;FMTTYPE=text/html:A chance to hear a wide variety of music. Performers of all ages welcome. Please check website for signup procedure. This month&#39\;s featured act will be Zeke and Maria. Wheelchair accessible\; free parking.
LOCATION:Morristown Unitarian Fellowship 21 Normandy Heights Road Morristown\, NJ 07960
UID:e.870.15296
SEQUENCE:3
DTSTAMP:20260420T041846Z
URL:https://business.suburbanchambers.org/events/details/open-stage-at-the-minstrel-03-08-2019-15296
END:VEVENT

END:VCALENDAR
