BEGIN:VCALENDAR
VERSION:2.0
PRODID:-//ChamberMaster//Event Calendar 2.0//EN
METHOD:PUBLISH
X-PUBLISHED-TTL:P3D
REFRESH-INTERVAL:P3D
CALSCALE:GREGORIAN
BEGIN:VEVENT
DTSTART:20190112T003000Z
DTEND:20190112T033000Z
X-MICROSOFT-CDO-ALLDAYEVENT:FALSE
SUMMARY:Open Stage at the Minstrel
DESCRIPTION:A chance to hear a wide variety of music. Performers will find an encouraging\, respectful audience. Please check website for signup procedures. Wheelchair accessible\; free parking.
X-ALT-DESC;FMTTYPE=text/html:A chance to hear a wide variety of music. Performers will find an encouraging\, respectful audience. Please check website for signup procedures. Wheelchair accessible\; free parking.
LOCATION:Morristown Unitarian Fellowship 21 Normandy Heights Road Morristown NJ 07960
UID:e.870.14841
SEQUENCE:3
DTSTAMP:20260420T113352Z
URL:https://business.suburbanchambers.org/events/details/open-stage-at-the-minstrel-01-11-2019-14841
END:VEVENT

END:VCALENDAR
