BEGIN:VCALENDAR
VERSION:2.0
PRODID:-//ChamberMaster//Event Calendar 2.0//EN
METHOD:PUBLISH
X-PUBLISHED-TTL:P3D
REFRESH-INTERVAL:P3D
CALSCALE:GREGORIAN
BEGIN:VEVENT
DTSTART:20180526T000000Z
DTEND:20180526T030000Z
X-MICROSOFT-CDO-ALLDAYEVENT:FALSE
SUMMARY:Open Mic Night
DESCRIPTION:The United Methodist Church of Summit Please join us for this free monthly event (held every last Friday of the month between September and May) intended to grant performers the chance to explore their talents and just be themselves in front of an audience. Open Mic Night is open to all\, providing performers with a welcoming\, non-judgmental\, non-competitive venue to explore and express their talents. Open Mic Night has already hosted more than 50 performers including: Local singer-songwriters\, high school kids\, college students\, local choir members\, a harmonica player\, a classical guitarist\, dramatic readings\, interpretive dance\, stand-up comedy and student rock bands.
X-ALT-DESC;FMTTYPE=text/html:The United Methodist Church of Summit Please join us for this free monthly event (held every last Friday of the month between September and May) intended to grant performers the chance to explore their talents and just be themselves in front of an audience. Open Mic Night is open to all\, providing performers with a welcoming\, non-judgmental\, non-competitive venue to explore and express their talents. Open Mic Night has already hosted more than 50 performers including: Local singer-songwriters\, high school kids\, college students\, local choir members\, a harmonica player\, a classical guitarist\, dramatic readings\, interpretive dance\, stand-up comedy and student rock bands.
LOCATION:The United Methodist Church of Summit 17 Kent Place Boulevard Summit\, NJ 07901
UID:e.870.10107
SEQUENCE:3
DTSTAMP:20260421T125508Z
URL:https://business.suburbanchambers.org/events/details/open-mic-night-05-25-2018-10107
END:VEVENT

END:VCALENDAR
