BEGIN:VCALENDAR
VERSION:2.0
PRODID:-//ChamberMaster//Event Calendar 2.0//EN
METHOD:PUBLISH
X-PUBLISHED-TTL:P3D
REFRESH-INTERVAL:P3D
CALSCALE:GREGORIAN
BEGIN:VEVENT
DTSTART:20190427T000000Z
DTEND:20190427T030000Z
X-MICROSOFT-CDO-ALLDAYEVENT:FALSE
SUMMARY:Open Mic Night
DESCRIPTION:Open Mic Night is just as it is billed: open to all\, providing performers with a welcoming\, non-judgmental\, non-competitive venue to explore and express their talents. The informal coffee-bar and stage is set every month with microphones\, a piano and keyboards\, guitars and drums\, as well as non-alcoholic drinks and snacks. Doors open at 8:00pm.
X-ALT-DESC;FMTTYPE=text/html:Open Mic Night is just as it is billed: open to all\, providing performers with a welcoming\, non-judgmental\, non-competitive venue to explore and express their talents. The informal coffee-bar and stage is set every month with microphones\, a piano and keyboards\, guitars and drums\, as well as non-alcoholic drinks and snacks. Doors open at 8:00pm.&nbsp\;
LOCATION:The United Methodist Church of Summit 17 Kent Place Boulevard Summit\, NJ 07901
UID:e.870.14833
SEQUENCE:3
DTSTAMP:20260419T231514Z
URL:https://business.suburbanchambers.org/events/details/open-mic-night-04-26-2019-14833
END:VEVENT

END:VCALENDAR
