BEGIN:VCALENDAR
VERSION:2.0
PRODID:-//ChamberMaster//Event Calendar 2.0//EN
METHOD:PUBLISH
X-PUBLISHED-TTL:P3D
REFRESH-INTERVAL:P3D
CALSCALE:GREGORIAN
BEGIN:VEVENT
DTSTART:20181026T140000Z
DTEND:20181026T180000Z
X-MICROSOFT-CDO-ALLDAYEVENT:FALSE
SUMMARY:Open House - The Arc of Union County - Adult Day Habilitation - "OUR LIFE"
DESCRIPTION:The Arc of Union County\n\nAdult Day Habilitation Services proudly present  "A Day in our Life!"\n\n \n\nYou are cordially invited to experience what our days are like at \n\nThe Arc of Union County!\n\n \n\nCome interact\, dance and learn with us! \n\n \n\nFriday\, October 26th\n\n10 until 2pm\n\n \n\nLight refreshments will be served.\n\n \n\n Please RSVP to Shelly at scharlestin@arcunion.org \n\nor 973-315-0099 by October 19\, 2018\n\n \n\nThe Arc of Union County\n\n70 Diamond Rd\, Springfield\, NJ 07081
X-ALT-DESC;FMTTYPE=text/html:<strong><span style="font-family:stone sans"><span style="font-size:22.0pt"><em>The Arc of Union County</em><br />\nAdult Day Habilitation Services&nbsp\;</span></span></strong><strong><span style="font-family:stone sans"><span style="font-size:22.0pt">proudly present&hellip\;&nbsp\;</span></span></strong><strong><span style="color:#5C2B85"><span style="font-family:stone sans"><span style="font-size:36.0pt">&ldquo\;A Day in our Life!&rdquo\;</span></span></span></strong><br />\n&nbsp\;<br />\n<strong><span style="color:#44697D"><span style="font-family:stone sans"><span style="font-size:26.0pt">You are cordially invited to experience what our </span></span></span></strong><strong><span style="color:#44697D"><span style="font-family:stone sans"><span style="font-size:26.0pt">days are like at </span></span></span></strong><br />\n<strong><span style="color:#44697D"><span style="font-family:stone sans"><span style="font-size:26.0pt">The Arc of Union County!</span></span></span></strong><br />\n&nbsp\;<br />\n<strong><span style="color:#44697D"><span style="font-family:stone sans"><span style="font-size:26.0pt">Come interact\, dance and </span></span></span></strong><strong><span style="color:#44697D"><span style="font-family:stone sans"><span style="font-size:26.0pt">learn with us! </span></span></span></strong><br />\n&nbsp\;<br />\n<strong><span style="color:#44697D"><span style="font-family:stone sans"><span style="font-size:26.0pt">Friday\, October 26th</span></span></span></strong><br />\n<strong><span style="color:#44697D"><span style="font-family:stone sans"><span style="font-size:26.0pt">10 until 2pm</span></span></span></strong><br />\n&nbsp\;<br />\n<strong><span style="color:#44697D"><span style="font-family:stone sans"><span style="font-size:26.0pt">Light refreshments will be served.</span></span></span></strong><br />\n&nbsp\;<br />\n&nbsp\;<strong><span style="font-family:stone sans"><span style="font-size:18.0pt">Please RSVP to Shelly at scharlestin@arcunion.org </span></span></strong><br />\n<strong><span style="font-family:stone sans"><span style="font-size:18.0pt">or 973-315-0099 by October 19\, 2018</span></span></strong><br />\n&nbsp\;<br />\n<strong><span style="font-family:stone sans"><span style="font-size:16.0pt">The Arc of Union County<br />\n70 Diamond Rd\, Springfield\, NJ 07081</span></span></strong><br />\n&nbsp\;<br />\n<br />\n&nbsp\;
LOCATION:The Arc of Union County - 70 Diamond Rd\, Springfield\, NJ 07081
UID:e.870.14624
SEQUENCE:3
DTSTAMP:20260420T221813Z
URL:https://business.suburbanchambers.org/events/details/open-house-the-arc-of-union-county-adult-day-habilitation-our-life-14624
END:VEVENT

END:VCALENDAR
