BEGIN:VCALENDAR
VERSION:2.0
PRODID:-//ChamberMaster//Event Calendar 2.0//EN
METHOD:PUBLISH
X-PUBLISHED-TTL:P3D
REFRESH-INTERVAL:P3D
CALSCALE:GREGORIAN
BEGIN:VEVENT
DTSTART:20190314T223000Z
DTEND:20190315T010000Z
X-MICROSOFT-CDO-ALLDAYEVENT:FALSE
SUMMARY:Open House at Excel Orthopedic Physical Therapy
DESCRIPTION:Come join Excel Orthopedic Physical Therapy at their newest location in Berkeley Heights for their official Open House! We will be beginning the evening with a Ribbon Cutting Ceremony\, followed by food\, drinks\, and giveaways sponsored by local businesses for all members of the community!
X-ALT-DESC;FMTTYPE=text/html:Come join Excel Orthopedic Physical Therapy at their newest location in Berkeley Heights for their official Open House! We will be beginning the evening with a Ribbon Cutting Ceremony\, followed by food\, drinks\, and giveaways sponsored by local businesses for all members of the community!
LOCATION:410 Springfield Ave\, Berkeley Heights\, NJ
UID:e.870.15289
SEQUENCE:3
DTSTAMP:20260420T080216Z
URL:https://business.suburbanchambers.org/events/details/open-house-at-excel-orthopedic-physical-therapy-15289
END:VEVENT

END:VCALENDAR
