BEGIN:VCALENDAR
VERSION:2.0
PRODID:-//ChamberMaster//Event Calendar 2.0//EN
METHOD:PUBLISH
X-PUBLISHED-TTL:P3D
REFRESH-INTERVAL:P3D
CALSCALE:GREGORIAN
BEGIN:VEVENT
DTSTART:20180909T140000Z
DTEND:20180909T160000Z
X-MICROSOFT-CDO-ALLDAYEVENT:FALSE
SUMMARY:One Service Sunday
DESCRIPTION:Renaissance Church is holding a special service at the auditorium of the Summit High School on Sunday\, September 9 at 10 am\, and all are welcome. At the One Service Sunday\, Lead Pastor Christian Andrews and the Renaissance Band will kick of the fall season by gathering in one location and one time. The morning will include time after the service to find out more about the ministries of Renaissance Church and how to get connected. The church staff and volunteers will be on hand to explain each of the Renaissance ministries and answer any questions. Snacks and coffee\, as well as fun activities for children\, will be offered.
X-ALT-DESC;FMTTYPE=text/html:Renaissance Church is holding a special service at the auditorium of the Summit High School on Sunday\, September 9 at 10 am\, and all are welcome. At the One Service Sunday\, Lead Pastor Christian Andrews and the Renaissance Band will kick of the fall season by gathering in one location and one time. The morning will include time after the service to find out more about the ministries of Renaissance Church and how to get connected. The church staff and volunteers will be on hand to explain each of the Renaissance ministries and answer any questions. Snacks and coffee\, as well as fun activities for children\, will be offered.
LOCATION:Summit High School\, 125 Kent Place Blvd\, Summit
UID:e.870.14386
SEQUENCE:3
DTSTAMP:20260421T040330Z
URL:https://business.suburbanchambers.org/events/details/one-service-sunday-14386
END:VEVENT

END:VCALENDAR
