BEGIN:VCALENDAR
VERSION:2.0
PRODID:-//ChamberMaster//Event Calendar 2.0//EN
METHOD:PUBLISH
X-PUBLISHED-TTL:P3D
REFRESH-INTERVAL:P3D
CALSCALE:GREGORIAN
BEGIN:VEVENT
DTSTART:20190427T200000Z
DTEND:20190428T000000Z
X-MICROSOFT-CDO-ALLDAYEVENT:FALSE
SUMMARY:Old Fashioned Oyster Roast
DESCRIPTION:Celebrate spring at an old fashioned Oyster Roast at Calvary Church. Steamed oysters provided by Barnegat Bay will be served alongside Memphis BBQ smoked to perfection by the Men of Calvary.  Entertainment for toe tapping and dancing will be provided by an 80's cover band sure to play all the hits! Please invite friends and neighbors. Purchase tickets at www.calvarysummit.org. All funds raised will help benefit Calvary's Youth Ministry & Outreach initiatives!
X-ALT-DESC;FMTTYPE=text/html:Celebrate spring at an old fashioned Oyster Roast at Calvary Church.&nbsp\;Steamed oysters provided by Barnegat Bay will be served alongside Memphis BBQ smoked to perfection by the Men of Calvary.&nbsp\; Entertainment for toe tapping and dancing will be provided by an 80&#39\;s cover band sure to play all the hits! Please invite friends and neighbors. Purchase tickets at www.calvarysummit.org. All funds raised will help benefit Calvary&#39\;s Youth Ministry &amp\; Outreach initiatives!
LOCATION:Calvary Church 31 Woodland Ave. Summit\, NJ
UID:e.870.15382
SEQUENCE:3
DTSTAMP:20260419T234457Z
URL:https://business.suburbanchambers.org/events/details/old-fashioned-oyster-roast-15382
END:VEVENT

END:VCALENDAR
