BEGIN:VCALENDAR
VERSION:2.0
PRODID:-//ChamberMaster//Event Calendar 2.0//EN
METHOD:PUBLISH
X-PUBLISHED-TTL:P3D
REFRESH-INTERVAL:P3D
CALSCALE:GREGORIAN
BEGIN:VEVENT
DTSTART:20190212T000000Z
DTEND:20190212T013000Z
X-MICROSOFT-CDO-ALLDAYEVENT:FALSE
SUMMARY:Nw Providence Garden Club
DESCRIPTION:"Invasive Plants" Our program is presented by Mike VanClef a renowned speaker with a BA & PHD from Rutgers in Biology and Ecology. He has over 20 years experience in non-profit consulting and university settings. Refreshments will be served.
X-ALT-DESC;FMTTYPE=text/html:&quot\;Invasive Plants&quot\; Our program is presented by Mike VanClef a renowned speaker with a BA &amp\; PHD from Rutgers in Biology and Ecology. He has over 20 years experience in non-profit consulting and university settings. Refreshments will be served.
LOCATION:New Providence DeCorso Center 15 East Fourth St. N.P.
UID:e.870.14493
SEQUENCE:3
DTSTAMP:20260420T080635Z
URL:https://business.suburbanchambers.org/events/details/nw-providence-garden-club-14493
END:VEVENT

END:VCALENDAR
