BEGIN:VCALENDAR
VERSION:2.0
PRODID:-//ChamberMaster//Event Calendar 2.0//EN
METHOD:PUBLISH
X-PUBLISHED-TTL:P3D
REFRESH-INTERVAL:P3D
CALSCALE:GREGORIAN
BEGIN:VEVENT
DTSTART:20190311T230000Z
DTEND:20190312T003000Z
X-MICROSOFT-CDO-ALLDAYEVENT:FALSE
SUMMARY:Nw Providence Garden Club
DESCRIPTION:"Landscape Design" Craig Stock who has over 30 years experience in the landscape industry will will discuss the principles of designing beautiful beautiful green spaces. Refreshments will be served.
X-ALT-DESC;FMTTYPE=text/html:&quot\;Landscape Design&quot\; Craig Stock who has over 30 years experience in the landscape industry will will discuss the principles of designing beautiful beautiful green spaces. Refreshments will be served.
LOCATION:New Providence De Corso Center 15 East 4th St
UID:e.870.15231
SEQUENCE:3
DTSTAMP:20260420T081404Z
URL:https://business.suburbanchambers.org/events/details/nw-providence-garden-club-03-11-2019-15231
END:VEVENT

END:VCALENDAR
