BEGIN:VCALENDAR
VERSION:2.0
PRODID:-//ChamberMaster//Event Calendar 2.0//EN
METHOD:PUBLISH
X-PUBLISHED-TTL:P3D
REFRESH-INTERVAL:P3D
CALSCALE:GREGORIAN
BEGIN:VEVENT
DTSTART:20180601T230000Z
DTEND:20180602T010000Z
X-MICROSOFT-CDO-ALLDAYEVENT:FALSE
SUMMARY:Nocturnal Neighbors at Reeves-Reed Arboretum (Rabbits}
DESCRIPTION:for families with children ages 5 and up) Spring is the time when rabbits appear everywhere! Tonight we will think like rabbits and explore the gardens in search of these furry little friends (or foes depending if you have a garden!). The evening will conclude with stories and s'more by the campfire. Registration is required. Membership must be current on date of event to receive membership benefit.  Future Sessions: Friday\, June 15 (Spiders).
X-ALT-DESC;FMTTYPE=text/html:for families with children ages 5 and up) Spring is the time when rabbits appear everywhere! Tonight we will think like rabbits and explore the gardens in search of these furry little friends (or foes depending if you have a garden!). The evening will conclude with stories and s&#39\;more by the campfire. Registration is required. Membership must be current on date of event to receive membership benefit.&nbsp\; Future Sessions: Friday\, June 15 (Spiders).&nbsp\;
LOCATION:Reeves-Reed Arboretum 165 Hobart Ave. Summit\, NJ 07901
UID:e.870.13043
SEQUENCE:3
DTSTAMP:20260421T101554Z
URL:https://business.suburbanchambers.org/events/details/nocturnal-neighbors-at-reeves-reed-arboretum-rabbits-13043
END:VEVENT

END:VCALENDAR
