BEGIN:VCALENDAR
VERSION:2.0
PRODID:-//ChamberMaster//Event Calendar 2.0//EN
METHOD:PUBLISH
X-PUBLISHED-TTL:P3D
REFRESH-INTERVAL:P3D
CALSCALE:GREGORIAN
BEGIN:VEVENT
DTSTART;VALUE=DATE:20180921
DTEND;VALUE=DATE:20180922
TRANSP:TRANSPARENT
X-MICROSOFT-CDO-ALLDAYEVENT:TRUE
SUMMARY:NO SCC/BH monthly Meeting today
DESCRIPTION:The September Surban Chamber of Commerce/ Berkeley Heights monthly meeting will postponed until October 19th\, registration is open.
X-ALT-DESC;FMTTYPE=text/html:The September Surban Chamber of Commerce/ Berkeley Heights monthly meeting will postponed until October 19th\, registration is open.
LOCATION:
UID:e.870.14491
SEQUENCE:3
DTSTAMP:20260421T010642Z
URL:https://business.suburbanchambers.org/events/details/no-scc-bh-monthly-meeting-today-14491
END:VEVENT

END:VCALENDAR
