BEGIN:VCALENDAR
VERSION:2.0
PRODID:-//ChamberMaster//Event Calendar 2.0//EN
METHOD:PUBLISH
X-PUBLISHED-TTL:P3D
REFRESH-INTERVAL:P3D
CALSCALE:GREGORIAN
BEGIN:VEVENT
DTSTART:20190310T140000Z
DTEND:20190310T153000Z
X-MICROSOFT-CDO-ALLDAYEVENT:FALSE
SUMMARY:NJ Sharing Network Indoor Cycle Event
DESCRIPTION:CYCLE AND SAVE LIVES! Help us kickoff NATIONAL DONATE LIFE MONTH with a midwinter ride led by Stewart Douglas\, YMCA spin instructor. Learn tips to improve your cycling performance from K Primary Care & Medical Nutrition Center and hear about organ & tissue donation from NJ Sharing Network. Refreshments and giveaways after class! Friends welcome too! WHEN March 10\, 10:00AM   11:30AM WHERE Indoor Cycling Studio\, Summit YMCA\, 67 Maple St.\, Summit WHAT Indoor Cycle Class with Stewart Douglas WHO Anyone 14+ who likes to cycle COST No Cost. Open to the Public. Registration is required in advance at the Summit YMCA Member Service Desk to hold a bike.
X-ALT-DESC;FMTTYPE=text/html:CYCLE AND SAVE LIVES! Help us kickoff NATIONAL DONATE LIFE MONTH with a midwinter ride led by Stewart Douglas\, YMCA spin instructor. Learn tips to improve your cycling performance from K Primary Care &amp\; Medical Nutrition Center and hear about organ &amp\; tissue donation from NJ Sharing Network. Refreshments and giveaways after class! Friends welcome too! WHEN March 10\, 10:00AM &ndash\; 11:30AM WHERE Indoor Cycling Studio\, Summit YMCA\, 67 Maple St.\, Summit WHAT Indoor Cycle Class with Stewart Douglas WHO Anyone 14+ who likes to cycle COST No Cost. Open to the Public. Registration is required in advance at the Summit YMCA Member Service Desk to hold a bike.
LOCATION:Summit YMCA 67 Maple Street\, Summit\, NJ
UID:e.870.15329
SEQUENCE:3
DTSTAMP:20260420T034752Z
URL:https://business.suburbanchambers.org/events/details/nj-sharing-network-indoor-cycle-event-15329
END:VEVENT

END:VCALENDAR
