BEGIN:VCALENDAR
VERSION:2.0
PRODID:-//ChamberMaster//Event Calendar 2.0//EN
METHOD:PUBLISH
X-PUBLISHED-TTL:P3D
REFRESH-INTERVAL:P3D
CALSCALE:GREGORIAN
BEGIN:VEVENT
DTSTART:20190323T130000Z
DTEND:20190323T210000Z
X-MICROSOFT-CDO-ALLDAYEVENT:FALSE
SUMMARY:NJ Makers Day!!
DESCRIPTION:NJ Makers Day is a celebration of maker culture across New Jersey. This all-ages event connects individuals with libraries & other makerspaces that support making\, tinkering\, crafting\, and STEM based learning. The New Providence Memorial Library is proud to be a NJ Makers Day host site\, offering hands-on activities like scarf-painting\, paper circuit cards\, seed starters\, ruler making\, binary beads\, ear candy\, and an amateur radio booth. Some activities require advanced registration\, so visit our website for more details. www.newprovidencelibrary.org
X-ALT-DESC;FMTTYPE=text/html:NJ Makers Day is a celebration of maker culture across New Jersey. This all-ages event connects individuals with libraries &amp\; other makerspaces that support making\, tinkering\, crafting\, and STEM based learning. The New Providence Memorial Library is proud to be a NJ Makers Day host site\, offering hands-on activities like scarf-painting\, paper circuit cards\, seed starters\, ruler making\, binary beads\, ear candy\, and an amateur radio booth. Some activities require advanced registration\, so visit our website for more details. www.newprovidencelibrary.org
LOCATION:New Providence Memorial Library
UID:e.870.15303
SEQUENCE:3
DTSTAMP:20260420T034443Z
URL:https://business.suburbanchambers.org/events/details/nj-makers-day-15303
END:VEVENT

END:VCALENDAR
