BEGIN:VCALENDAR
VERSION:2.0
PRODID:-//ChamberMaster//Event Calendar 2.0//EN
METHOD:PUBLISH
X-PUBLISHED-TTL:P3D
REFRESH-INTERVAL:P3D
CALSCALE:GREGORIAN
BEGIN:VEVENT
DTSTART:20180627T230000Z
DTEND:20180628T010000Z
X-MICROSOFT-CDO-ALLDAYEVENT:FALSE
SUMMARY:NJ Dance Theatre Ensemble INKUBATE at Reeves-Reed Arboretum
DESCRIPTION:Celebrate the summer at Reeves-Reed Arboretum\, where nature and the arts collide! Bring your blankets\, lawn chairs and picnic baskets to Reeves-Reed Arboretum as we kick off another summer series of four concerts in the garden. Sounds of a Summer Night 2018 commences with INKUBATE \, on Wednesday evenings\, June 27\, July 11\, and August 1. INKUBATE  is a collaboration between the New Jersey Dance Theatre Ensemble and Reeves-Reed Arboretum offering three "enchanting and exhilarating" evenings of site-specific dance performances on the Arboretum grounds.
X-ALT-DESC;FMTTYPE=text/html:Celebrate the summer at Reeves-Reed Arboretum\, where nature and the arts collide! Bring your blankets\, lawn chairs and picnic baskets to Reeves-Reed Arboretum as we kick off another summer series of four concerts in the garden. Sounds of a Summer Night 2018 commences with INKUBATE&reg\;\, on Wednesday evenings\, June 27\, July 11\, and August 1. INKUBATE&reg\; is a collaboration between the New Jersey Dance Theatre Ensemble and Reeves-Reed Arboretum offering three &quot\;enchanting and exhilarating&quot\; evenings of site-specific dance performances on the Arboretum grounds.&nbsp\;
LOCATION:Reeves-Reed Arboretum 165 Hobart Ave. Summit\, NJ 07901
UID:e.870.13082
SEQUENCE:3
DTSTAMP:20260421T130459Z
URL:https://business.suburbanchambers.org/events/details/nj-dance-theatre-ensemble-inkubate-at-reeves-reed-arboretum-13082
END:VEVENT

END:VCALENDAR
