BEGIN:VCALENDAR
VERSION:2.0
PRODID:-//ChamberMaster//Event Calendar 2.0//EN
METHOD:PUBLISH
X-PUBLISHED-TTL:P3D
REFRESH-INTERVAL:P3D
CALSCALE:GREGORIAN
BEGIN:VEVENT
DTSTART:20180711T230000Z
DTEND:20180712T003000Z
X-MICROSOFT-CDO-ALLDAYEVENT:FALSE
SUMMARY:NJ Dance Theatre Ensemble INKUBATE at Reeves-Reed Arboretum
DESCRIPTION:Celebrate the summer at Reeves-Reed Arboretum\, where nature and the arts collide! Wednesday\, July 11 at 7:00 pm. Arboretum grounds will open at 6:00 pm for concertgoers to picnic. Bring your blankets\, lawn chairs and picnic baskets to Reeves-Reed Arboretum as we kick off another summer series of four concerts in the garden. Sounds of a Summer Night 2018 commences with INKUBATE \, on Wednesday evenings\, June 27\, July 11\, and August 1. INKUBATE  is a collaboration between the New Jersey Dance Theatre Ensemble and Reeves-Reed Arboretum offering three "enchanting and exhilarating" evenings of site-specific dance performances on the Arboretum grounds. The final concert of the series\, scheduled for Wednesday\, August 8\, will feature Steven Cantor\, aka HeaveN Beatbox\, in a remarkable performance of beat or b-boxing\, an amazing form of vocal percussion using one's mouth\, lips\, and tongue\, to vocally replicate\, create and mimic sounds and tell stories. The Arboretum grounds open up at 6:00 pm for concertgoers to picnic and the performance is from 7:00 pm to 8:00 pm. All events are rain or shine\, unless otherwise noted. Cost: Free to RRA Members (thanks to underwriting support from Investors Bank). $15 per person donation for Non-Members ($5 for student tickets which must be purchased at the gate). INKUBATE  and RRA's Sounds of a Summer Night 2018\, are proudly sponsored in part by a grant from Investors Foundation\, with additional support from Nick & Tracy McKee. Date/Time: Wednesday\, July 11\, Arboretum grounds will open at 6:00 pm for concertgoers to picnic. Performance at 7:00pm. Location: Reeves-Reed Arboretum\, 165 Hobart Ave.\, Summit\, NJ 07901 Cost: Members: FREE\, Non-Members: $10 Pre Registration: Required On-line Registration: Visit our Website More information: RRA Website Contact: Doreen Schindler\, (908) 273-8787 x1010\, d.schindler@reeves-reedarboretum.org
X-ALT-DESC;FMTTYPE=text/html:Celebrate the summer at Reeves-Reed Arboretum\, where nature and the arts collide! Wednesday\, July 11 at 7:00 pm. Arboretum grounds will open at 6:00 pm for concertgoers to picnic. Bring your blankets\, lawn chairs and picnic baskets to Reeves-Reed Arboretum as we kick off another summer series of four concerts in the garden. Sounds of a Summer Night 2018 commences with INKUBATE&reg\;\, on Wednesday evenings\, June 27\, July 11\, and August 1. INKUBATE&reg\; is a collaboration between the New Jersey Dance Theatre Ensemble and Reeves-Reed Arboretum offering three &quot\;enchanting and exhilarating&quot\; evenings of site-specific dance performances on the Arboretum grounds. The final concert of the series\, scheduled for Wednesday\, August 8\, will feature Steven Cantor\, aka HeaveN Beatbox\, in a remarkable performance of beat or b-boxing\, an amazing form of vocal percussion using one&#39\;s mouth\, lips\, and tongue\, to vocally replicate\, create and mimic sounds and tell stories. The Arboretum grounds open up at 6:00 pm for concertgoers to picnic and the performance is from 7:00 pm to 8:00 pm. All events are rain or shine\, unless otherwise noted. Cost: Free to RRA Members (thanks to underwriting support from Investors Bank). $15 per person donation for Non-Members ($5 for student tickets which must be purchased at the gate). INKUBATE&reg\; and RRA&#39\;s Sounds of a Summer Night 2018\, are proudly sponsored in part by a grant from Investors Foundation\, with additional support from Nick &amp\; Tracy McKee. Date/Time: Wednesday\, July 11\, Arboretum grounds will open at 6:00 pm for concertgoers to picnic. Performance at 7:00pm. Location: Reeves-Reed Arboretum\, 165 Hobart Ave.\, Summit\, NJ 07901 Cost: Members: FREE\, Non-Members: $10 Pre Registration: Required On-line Registration: Visit our Website More information: RRA Website Contact: Doreen Schindler\, (908) 273-8787 x1010\, d.schindler@reeves-reedarboretum.org
LOCATION:Reeves-Reed Arboretum 165 Hobart Ave. Summit\, NJ 07901
UID:e.870.14109
SEQUENCE:3
DTSTAMP:20260421T072331Z
URL:https://business.suburbanchambers.org/events/details/nj-dance-theatre-ensemble-inkubate-at-reeves-reed-arboretum-07-11-2018-14109
END:VEVENT

END:VCALENDAR
