BEGIN:VCALENDAR
VERSION:2.0
PRODID:-//ChamberMaster//Event Calendar 2.0//EN
METHOD:PUBLISH
X-PUBLISHED-TTL:P3D
REFRESH-INTERVAL:P3D
CALSCALE:GREGORIAN
BEGIN:VEVENT
DTSTART:20190108T150000Z
DTEND:20190108T163000Z
X-MICROSOFT-CDO-ALLDAYEVENT:FALSE
SUMMARY:Nice Presidents Finish Last
DESCRIPTION:Dr. Dan Cassino professor of political science at Fairleigh Dickinson University will dis-cuss what ideas we all have about what makes a great President. He will talk about what makes a great President and go in-depth with Andrew Jackson\, James Garfield\, Lyndon Johnson and others in order to see what we really should be looking for in a President. Dr. Cassino is the author of several books and has written about politics\, polling and gender for the Harvard Business Review. The event will take place at the Summit Old Guard
X-ALT-DESC;FMTTYPE=text/html:Dr. Dan Cassino professor of political science at Fairleigh Dickinson University will dis-cuss what ideas we all have about what makes a great President. He will talk about what makes a great President and go in-depth with Andrew Jackson\, James Garfield\, Lyndon Johnson and others in order to see what we really should be looking for in a President. Dr. Cassino is the author of several books and has written about politics\, polling and gender for the Harvard Business Review. The event will take place at the Summit Old Guard&nbsp\;
LOCATION:New Providence Borough Hall
UID:e.870.14742
SEQUENCE:3
DTSTAMP:20260420T143440Z
URL:https://business.suburbanchambers.org/events/details/nice-presidents-finish-last-14742
END:VEVENT

END:VCALENDAR
