BEGIN:VCALENDAR
VERSION:2.0
PRODID:-//ChamberMaster//Event Calendar 2.0//EN
METHOD:PUBLISH
X-PUBLISHED-TTL:P3D
REFRESH-INTERVAL:P3D
CALSCALE:GREGORIAN
BEGIN:VEVENT
DTSTART:20180922T130000Z
DTEND:20180923T210000Z
X-MICROSOFT-CDO-ALLDAYEVENT:FALSE
SUMMARY:New Providence Library Open House
DESCRIPTION:New Providence Memorial Library is having an open house weekend featuring a concert\, storytime\, crafts\, yoga\, tea with the Friends of the Library and library trustees\, and more. See newprovidencelibrary.org for details.
X-ALT-DESC;FMTTYPE=text/html:New Providence Memorial Library is having an open house weekend featuring a concert\, storytime\, crafts\, yoga\, tea with the Friends of the Library and library trustees\, and more. See newprovidencelibrary.org for details.
LOCATION:New Providence Memorial Library\, 377 Elkwood Avenue\, New Providence\, NJ
UID:e.870.14413
SEQUENCE:3
DTSTAMP:20260421T010025Z
URL:https://business.suburbanchambers.org/events/details/new-providence-library-open-house-14413
END:VEVENT

END:VCALENDAR
