BEGIN:VCALENDAR
VERSION:2.0
PRODID:-//ChamberMaster//Event Calendar 2.0//EN
METHOD:PUBLISH
X-PUBLISHED-TTL:P3D
REFRESH-INTERVAL:P3D
CALSCALE:GREGORIAN
BEGIN:VEVENT
DTSTART:20190513T230000Z
DTEND:20190514T003000Z
X-MICROSOFT-CDO-ALLDAYEVENT:FALSE
SUMMARY:New Providence Garden Club
DESCRIPTION:"Flower & Garden Photography" This lecture is presented by Brian Szabo a professional photographer with over 20 years of experience. He does judging \,teaching and workshops and has published in magazines\, books and calendars. Refreshments will be served.
X-ALT-DESC;FMTTYPE=text/html:&quot\;Flower &amp\; Garden Photography&quot\; This lecture is presented by Brian Szabo a professional photographer with over 20 years of experience. He does judging \,teaching and workshops and has published in magazines\, books and calendars. Refreshments will be served.
LOCATION:New Providence De Corso Center 15 East 4th St. New Providence\, N.J.
UID:e.870.15452
SEQUENCE:3
DTSTAMP:20260419T192441Z
URL:https://business.suburbanchambers.org/events/details/new-providence-garden-club-05-13-2019-15452
END:VEVENT

END:VCALENDAR
