BEGIN:VCALENDAR
VERSION:2.0
PRODID:-//ChamberMaster//Event Calendar 2.0//EN
METHOD:PUBLISH
X-PUBLISHED-TTL:P3D
REFRESH-INTERVAL:P3D
CALSCALE:GREGORIAN
BEGIN:VEVENT
DTSTART:20190408T230000Z
DTEND:20190409T003000Z
X-MICROSOFT-CDO-ALLDAYEVENT:FALSE
SUMMARY:New Providence Garden Club
DESCRIPTION:"Botanical Jewelry" Linda Williams will show us how to gather\, dry\, prep\, paint and assemble materials like leaves\, flowers\, and berries to create pieces of jewelry. Refreshments will be served.
X-ALT-DESC;FMTTYPE=text/html:&quot\;Botanical Jewelry&quot\; Linda Williams will show us how to gather\, dry\, prep\, paint and assemble materials like leaves\, flowers\, and berries to create pieces of jewelry. Refreshments will be served.
LOCATION:New Providence De Corso Center 15 East 4th St
UID:e.870.15232
SEQUENCE:3
DTSTAMP:20260420T000148Z
URL:https://business.suburbanchambers.org/events/details/new-providence-garden-club-04-08-2019-15232
END:VEVENT

END:VCALENDAR
