BEGIN:VCALENDAR
VERSION:2.0
PRODID:-//ChamberMaster//Event Calendar 2.0//EN
METHOD:PUBLISH
X-PUBLISHED-TTL:P3D
REFRESH-INTERVAL:P3D
CALSCALE:GREGORIAN
BEGIN:VEVENT
DTSTART:20180606T140000Z
DTEND:20180606T160000Z
X-MICROSOFT-CDO-ALLDAYEVENT:FALSE
SUMMARY:New Jersey Tax Seminars at Summit Public Library for Small and Future Business People
DESCRIPTION:Back by popular demand\, Summit Free Public Library in collaboration with the New Jersey State Library and Taxation University\, the training and outreach unit of the New Jersey Division of Taxation\, will offer two workshops this spring for small business owners and future business owners and entrepreneurs. Both seminars are free of charge\, but registration is required. Registration must be made by Monday\, May 28\, 2018. You may register for either or both seminars by calling the library at 908-273-0350\, ext. 3 or visiting the website https://www.summitlibrary.org. The New Jersey Sales Tax seminar will be held from 10:00 am-12:00 noon and will cover:   Taxable products and services   New Jersey Exemption Certificates   Collecting New Jersey Sales Tax   Filing Sales and Use Tax return and Wednesday\, June 06\, 2018\, 01:30pm - 03:30pm In the Business Registration and Reporting Business Income seminar\, startups and small business owners will get the foundation they need to make good decisions about business structure and reporting business income. They will learn about: - Different business structures - Registering a business in New Jersey - Legal entity vs. individual structured business registration - How to report your New Jersey business income
X-ALT-DESC;FMTTYPE=text/html:Back by popular demand\, Summit Free Public Library in collaboration with the New Jersey State Library and Taxation University\, the training and outreach unit of the New Jersey Division of Taxation\, will offer two workshops this spring for small business owners and future business owners and entrepreneurs. Both seminars are free of charge\, but registration is required. Registration must be made by Monday\, May 28\, 2018. You may register for either or both seminars by calling the library at 908-273-0350\, ext. 3 or visiting the website https://www.summitlibrary.org. The New Jersey Sales Tax seminar will be held from 10:00 am-12:00 noon and will cover: &bull\; Taxable products and services &bull\; New Jersey Exemption Certificates &bull\; Collecting New Jersey Sales Tax &bull\; Filing Sales and Use Tax return and Wednesday\, June 06\, 2018\, 01:30pm - 03:30pm In the Business Registration and Reporting Business Income seminar\, startups and small business owners will get the foundation they need to make good decisions about business structure and reporting business income. They will learn about: - Different business structures - Registering a business in New Jersey - Legal entity vs. individual structured business registration - How to report your New Jersey business income
LOCATION:Summit Public Library
UID:e.870.13016
SEQUENCE:3
DTSTAMP:20260421T101945Z
URL:https://business.suburbanchambers.org/events/details/new-jersey-tax-seminars-at-summit-public-library-for-small-and-future-business-people-13016
END:VEVENT

END:VCALENDAR
