BEGIN:VCALENDAR
VERSION:2.0
PRODID:-//ChamberMaster//Event Calendar 2.0//EN
METHOD:PUBLISH
X-PUBLISHED-TTL:P3D
REFRESH-INTERVAL:P3D
CALSCALE:GREGORIAN
BEGIN:VEVENT
DTSTART:20190519T180000Z
DTEND:20190519T200000Z
X-MICROSOFT-CDO-ALLDAYEVENT:FALSE
SUMMARY:New Jersey Mills: Whatever Happened to Them
DESCRIPTION:More than a thousand water-powered grist\, saw\, cotton and woolen mills provided food\, shelter\, and clothing in New Jersey in the late 1800's. Over the decades\, some of the mills were converted to other uses\; many fell into ruin\; and others simply vanished. Phil Jaeger examines the current state of many of the mills built in centuries past and includes them in a "then and now" comparison.
X-ALT-DESC;FMTTYPE=text/html:More than a thousand water-powered grist\, saw\, cotton and woolen mills provided food\, shelter\, and clothing in New Jersey in the late 1800&rsquo\;s. Over the decades\, some of the mills were converted to other uses\; many fell into ruin\; and others simply vanished. Phil Jaeger examines the current state of many of the mills built in centuries past and includes them in a &ldquo\;then and now&rdquo\; comparison.
LOCATION:Chatham Township Municipal Building 58 Meyersville Road Chatham Township
UID:e.870.15332
SEQUENCE:3
DTSTAMP:20260419T191634Z
URL:https://business.suburbanchambers.org/events/details/new-jersey-mills-whatever-happened-to-them-15332
END:VEVENT

END:VCALENDAR
