BEGIN:VCALENDAR
VERSION:2.0
PRODID:-//ChamberMaster//Event Calendar 2.0//EN
METHOD:PUBLISH
X-PUBLISHED-TTL:P3D
REFRESH-INTERVAL:P3D
CALSCALE:GREGORIAN
BEGIN:VEVENT
DTSTART:20190305T190000Z
DTEND:20190305T203000Z
X-MICROSOFT-CDO-ALLDAYEVENT:FALSE
SUMMARY:New 8 Week Bereavement Support Group
DESCRIPTION:SAGE Eldercare will offer a new free\, 8 week bereavement support group beginning February 5\, for people age 60 and older who have lost a spouse in the last year. The support group will be led by Kathy Larkin\, Licensed Clinical Social Worker and SAGE's InfoCare Manager. "Adjusting to the loss of a spouse is a life-changing event and an ongoing process. During the first year\, the world can feel like a different place to the one who is grieving. At this time\, it can be helpful to be with others who are on a similar road to share concerns\, coping strategies\, and fellowship as you move forward\," said Larkin.  Pre-registration is required. To register\, or for more information\, please call Kathy Larkin at: 908 598-5509.
X-ALT-DESC;FMTTYPE=text/html:SAGE Eldercare will offer a new free\, 8 week bereavement support group beginning February 5\, for people age 60 and older who have lost a spouse in the last year. The support group will be led by Kathy Larkin\, Licensed Clinical Social Worker and SAGE&#39\;s InfoCare Manager. &quot\;Adjusting to the loss of a spouse is a life-changing event and an ongoing process. During the first year\, the world can feel like a different place to the one who is grieving. At this time\, it can be helpful to be with others who are on a similar road to share concerns\, coping strategies\, and fellowship as you move forward\,&quot\; said Larkin.&nbsp\; Pre-registration is required. To register\, or for more information\, please call Kathy Larkin at: 908 598-5509.
LOCATION:SAGE Eldercare 290 Broad Street Summit NJ
UID:e.870.15238
SEQUENCE:3
DTSTAMP:20260420T035405Z
URL:https://business.suburbanchambers.org/events/details/new-8-week-bereavement-support-group-03-05-2019-15238
END:VEVENT

END:VCALENDAR
