BEGIN:VCALENDAR
VERSION:2.0
PRODID:-//ChamberMaster//Event Calendar 2.0//EN
METHOD:PUBLISH
X-PUBLISHED-TTL:P3D
REFRESH-INTERVAL:P3D
CALSCALE:GREGORIAN
BEGIN:VEVENT
DTSTART:20180711T120000Z
DTEND:20180711T133000Z
X-MICROSOFT-CDO-ALLDAYEVENT:FALSE
SUMMARY:Networking breakfast and interactive marketing workshop for small business people and nonprofits
DESCRIPTION:Summit Free Public Library will be hosting a free networking breakfast and interactive demonstration of a proprietary marketing database that is freely accessible to New Jersey and New York library card holders from within and outside the library. Guest speaker\, TJ Pridell of Reference USA\, a division of Infogroup\, will demonstrate how the database can help individual small business owners and others. Customized for the business community (as well as the nonprofit community)\, this program will teach business owners\, sales and marketing representatives\, consultants\, and nonprofit managers how to identify their vertical market & generate sales leads based on what community is most likely to buy their products and services. Other concepts are taught through the database like competitive analysis\, market research\, and varying outreach methods to attract new customers.
X-ALT-DESC;FMTTYPE=text/html:Summit Free Public Library will be hosting a free networking breakfast and interactive demonstration of a proprietary marketing database that is freely accessible to New Jersey and New York library card holders from within and outside the library. Guest speaker\, TJ Pridell of Reference USA\, a division of Infogroup\, will demonstrate how the database can help individual small business owners and others. Customized for the business community (as well as the nonprofit community)\, this program will teach business owners\, sales and marketing representatives\, consultants\, and nonprofit managers how to identify their vertical market &amp\; generate sales leads based on what community is most likely to buy their products and services. Other concepts are taught through the database like competitive analysis\, market research\, and varying outreach methods to attract new customers.
LOCATION:Summit Free Public Library
UID:e.870.13017
SEQUENCE:3
DTSTAMP:20260421T071754Z
URL:https://business.suburbanchambers.org/events/details/networking-breakfast-and-interactive-marketing-workshop-for-small-business-people-and-nonprofits-13017
END:VEVENT

END:VCALENDAR
