BEGIN:VCALENDAR
VERSION:2.0
PRODID:-//ChamberMaster//Event Calendar 2.0//EN
METHOD:PUBLISH
X-PUBLISHED-TTL:P3D
REFRESH-INTERVAL:P3D
CALSCALE:GREGORIAN
BEGIN:VEVENT
DTSTART:20190226T143000Z
DTEND:20190226T163000Z
X-MICROSOFT-CDO-ALLDAYEVENT:FALSE
SUMMARY:Navigating Hearing Loss Remediation
DESCRIPTION:Craig T. Barth\, M.A.\, CCC-A Audiologist\, Fellow\, American Academy of Audiology\, Morristown. Craig will present a step-by-step thorough and logical process to get your hearing assessed and have proposed remedies clearly explained. He will also share helpful tips for becoming an educated consumer of hearing aid devices.
X-ALT-DESC;FMTTYPE=text/html:Craig T. Barth\, M.A.\, CCC-A Audiologist\, Fellow\, American Academy of Audiology\, Morristown. Craig will present a step-by-step thorough and logical process to get your hearing assessed and have proposed remedies clearly explained. He will also share helpful tips for becoming an educated consumer of hearing aid devices.
LOCATION:New Providence Municipal Buiding
UID:e.870.15215
SEQUENCE:3
DTSTAMP:20260420T080057Z
URL:https://business.suburbanchambers.org/events/details/navigating-hearing-loss-remediation-15215
END:VEVENT

END:VCALENDAR
