BEGIN:VCALENDAR
VERSION:2.0
PRODID:-//ChamberMaster//Event Calendar 2.0//EN
METHOD:PUBLISH
X-PUBLISHED-TTL:P3D
REFRESH-INTERVAL:P3D
CALSCALE:GREGORIAN
BEGIN:VEVENT
DTSTART:20180511T143000Z
DTEND:20180511T153000Z
X-MICROSOFT-CDO-ALLDAYEVENT:FALSE
SUMMARY:National Public Gardens Day at Reeves-Reed Arboretum
DESCRIPTION:Join us on a free garden tour to celebrate National Public Gardens Day! Our garden docents will lead you on a stroll through the grounds\, introducing you to some of their favorite garden plants and highlighting details of the Arboretum's unique and interesting history.  Tours begin at the Visitors Center at 10:30 am and 1:30 pm. Registration is encouraged but not required.
X-ALT-DESC;FMTTYPE=text/html:Join us on a free garden tour to celebrate National Public Gardens Day! Our garden docents will lead you on a stroll through the grounds\, introducing you to some of their favorite garden plants and highlighting details of the Arboretum&#39\;s unique and interesting history.&nbsp\; Tours begin at the Visitors Center at 10:30 am and 1:30 pm. Registration is encouraged but not required.
LOCATION:Reeves-Reed Arboretum 165 Hobart Ave. Summit\, NJ 07901
UID:e.870.11795
SEQUENCE:3
DTSTAMP:20260421T133530Z
URL:https://business.suburbanchambers.org/events/details/national-public-gardens-day-at-reeves-reed-arboretum-11795
END:VEVENT

END:VCALENDAR
