BEGIN:VCALENDAR
VERSION:2.0
PRODID:-//ChamberMaster//Event Calendar 2.0//EN
METHOD:PUBLISH
X-PUBLISHED-TTL:P3D
REFRESH-INTERVAL:P3D
CALSCALE:GREGORIAN
BEGIN:VEVENT
DTSTART:20190411T143000Z
DTEND:20190411T160000Z
X-MICROSOFT-CDO-ALLDAYEVENT:FALSE
SUMMARY:Music Recital
DESCRIPTION:The Suburban Music Study Club will host a musicale featuring the Berkshire Trio\; Clarissa Schoch\, soprano\; Charity Wicks\, piano\; Melissa Juska\, mezzo-soprano.
X-ALT-DESC;FMTTYPE=text/html:The Suburban Music Study Club will host a musicale featuring the Berkshire Trio\; Clarissa Schoch\, soprano\; Charity Wicks\, piano\; Melissa Juska\, mezzo-soprano.
LOCATION:Chase Room\, Madison Public Library\, 39 Keep St.\, Madison
UID:e.870.15397
SEQUENCE:3
DTSTAMP:20260420T035740Z
URL:https://business.suburbanchambers.org/events/details/music-recital-04-11-2019-15397
END:VEVENT

END:VCALENDAR
