BEGIN:VCALENDAR
VERSION:2.0
PRODID:-//ChamberMaster//Event Calendar 2.0//EN
METHOD:PUBLISH
X-PUBLISHED-TTL:P3D
REFRESH-INTERVAL:P3D
CALSCALE:GREGORIAN
BEGIN:VEVENT
DTSTART:20181028T000000Z
DTEND:20181028T020000Z
X-MICROSOFT-CDO-ALLDAYEVENT:FALSE
SUMMARY:Multiple Personality Disorder
DESCRIPTION:MULTIPLE PERSONALITY DISORDER is Dreamcatcher's improv comedy troupe that acts out comedy sketches like those seen on the popular television show\, "Whose Line Is It Anyway?" Throughout the evening they use audience suggestions to shape the scenes that the actors instantly create onstage. The show is family-friendly and makes for a fun and affordable night out.
X-ALT-DESC;FMTTYPE=text/html:MULTIPLE PERSONALITY DISORDER is Dreamcatcher&rsquo\;s improv comedy troupe that acts out comedy sketches like those seen on the popular television show\, &ldquo\;Whose Line Is It Anyway?&rdquo\; Throughout the evening they use audience suggestions to shape the scenes that the actors instantly create onstage. The show is family-friendly and makes for a fun and affordable night out.
LOCATION:Dreamcatcher Repertory Theatre Oakes Center 120 Morris Avenue Summit\, NJ
UID:e.870.14415
SEQUENCE:3
DTSTAMP:20260421T004746Z
URL:https://business.suburbanchambers.org/events/details/multiple-personality-disorder-10-27-2018-14415
END:VEVENT

END:VCALENDAR
