BEGIN:VCALENDAR
VERSION:2.0
PRODID:-//ChamberMaster//Event Calendar 2.0//EN
METHOD:PUBLISH
X-PUBLISHED-TTL:P3D
REFRESH-INTERVAL:P3D
CALSCALE:GREGORIAN
BEGIN:VEVENT
DTSTART:20190127T200000Z
DTEND:20190127T220000Z
X-MICROSOFT-CDO-ALLDAYEVENT:FALSE
SUMMARY:MRB Jazz Project
DESCRIPTION:Jan 27 @ 3 PM - MRB Jazz Project (All Ages) A concert by MRB Jazz Project. Sponsored by the Friends of the New Providence Memorial Library. Free\, everyone is welcome.
X-ALT-DESC;FMTTYPE=text/html:Jan 27 @ 3 PM - MRB Jazz Project (All Ages) A concert by MRB Jazz Project. Sponsored by the Friends of the New Providence Memorial Library. Free\, everyone is welcome.
LOCATION:New Providence Memorial Library
UID:e.870.15205
SEQUENCE:3
DTSTAMP:20260420T112224Z
URL:https://business.suburbanchambers.org/events/details/mrb-jazz-project-15205
END:VEVENT

END:VCALENDAR
