BEGIN:VCALENDAR
VERSION:2.0
PRODID:-//ChamberMaster//Event Calendar 2.0//EN
METHOD:PUBLISH
X-PUBLISHED-TTL:P3D
REFRESH-INTERVAL:P3D
CALSCALE:GREGORIAN
BEGIN:VEVENT
DTSTART:20180513T170000Z
DTEND:20180513T193000Z
X-MICROSOFT-CDO-ALLDAYEVENT:FALSE
SUMMARY:Mother's Day Tea at Reeves-Reed Arboretum
DESCRIPTION:Why not celebrate Mother's Day this year surrounded by the magnificent grounds of Reeves-Reed Arboretum! Treat your mother\, grandmother\, or special person in your life to an elegant afternoon high tea\, featuring a multi-course sampling of scrumptious scones\, tantalizing tea sandwiches\, and delectable desserts. After tea\, take a guided stroll about our spring gardens led by our Director of Horticulture\, Marc Montefusco. Seating begins at 12:45 and serving promptly at 1 pm. Advance registration is required and seats are limited.
X-ALT-DESC;FMTTYPE=text/html:Why not celebrate Mother&#39\;s Day this year surrounded by the magnificent grounds of Reeves-Reed Arboretum! Treat your mother\, grandmother\, or special person in your life to an elegant afternoon high tea\, featuring a multi-course sampling of scrumptious scones\, tantalizing tea sandwiches\, and delectable desserts. After tea\, take a guided stroll about our spring gardens led by our Director of Horticulture\, Marc Montefusco. Seating begins at 12:45 and serving promptly at 1 pm. Advance registration is required and seats are limited.
LOCATION:Reeves-Reed Arboretum 165 Hobart Ave. Summit\, NJ 07901
UID:e.870.11824
SEQUENCE:3
DTSTAMP:20260421T133021Z
URL:https://business.suburbanchambers.org/events/details/mother-s-day-tea-at-reeves-reed-arboretum-11824
END:VEVENT

END:VCALENDAR
