BEGIN:VCALENDAR
VERSION:2.0
PRODID:-//ChamberMaster//Event Calendar 2.0//EN
METHOD:PUBLISH
X-PUBLISHED-TTL:P3D
REFRESH-INTERVAL:P3D
CALSCALE:GREGORIAN
BEGIN:VEVENT
DTSTART:20190324T193000Z
DTEND:20190324T210000Z
X-MICROSOFT-CDO-ALLDAYEVENT:FALSE
SUMMARY:Mostly Music
DESCRIPTION:The Mostly Music concert series presents violinists Benjamin Beilman\, Daniel Phillips\, and Arnaud Sussmann\, violist Paul Neubauer\, cellist Fred Sherry\, bassist Anthony Manzo\, and harpsichordist Jeffrey Grossman in a concert of concertos by Bach\, Tartini\, Haydn\, and others.
X-ALT-DESC;FMTTYPE=text/html:The Mostly Music concert series presents violinists Benjamin Beilman\, Daniel Phillips\, and Arnaud Sussmann\, violist Paul Neubauer\, cellist Fred Sherry\, bassist Anthony Manzo\, and harpsichordist Jeffrey Grossman in a concert of concertos by Bach\, Tartini\, Haydn\, and others.
LOCATION:Temple Emanu-El\, 756 East Broad St\, Westfield\, NJ
UID:e.870.15314
SEQUENCE:3
DTSTAMP:20260420T034330Z
URL:https://business.suburbanchambers.org/events/details/mostly-music-15314
END:VEVENT

END:VCALENDAR
