BEGIN:VCALENDAR
VERSION:2.0
PRODID:-//ChamberMaster//Event Calendar 2.0//EN
METHOD:PUBLISH
X-PUBLISHED-TTL:P3D
REFRESH-INTERVAL:P3D
CALSCALE:GREGORIAN
BEGIN:VEVENT
DTSTART:20181026T130000Z
DTEND:20181026T200000Z
X-MICROSOFT-CDO-ALLDAYEVENT:FALSE
SUMMARY:Mohonk Mountain House with Reeves-Reed Arboretum
DESCRIPTION:Tucked away at the top of the Shawangunk Ridge and with over 85 miles of trails and a pristine mountain lake\, Mohonk Mountain House offers spectacular views of an incredible fall landscape. Trip includes: roundtrip bus fare and entrance to the grounds lunch in the main dining room featuring locally sourced Hudson Valley fare private tour of the grounds 15% discount coupon at the gift shop or greenhouse garden shop complimentary tea and cookies before departure Mohonk souvenir to take home with you for memories of your unforgettable day
X-ALT-DESC;FMTTYPE=text/html:Tucked away at the top of the Shawangunk Ridge and with over 85 miles of trails and a pristine mountain lake\, Mohonk Mountain House offers spectacular views of an incredible fall landscape. Trip includes: roundtrip bus fare and entrance to the grounds lunch in the main dining room featuring locally sourced Hudson Valley fare private tour of the grounds 15% discount coupon at the gift shop or greenhouse garden shop complimentary tea and cookies before departure Mohonk souvenir to take home with you for memories of your unforgettable day
LOCATION:Bus departs Grand Summit Hotel\, 570 Springfield Ave.\, Summit\, NJ 07901
UID:e.870.14363
SEQUENCE:3
DTSTAMP:20260421T011219Z
URL:https://business.suburbanchambers.org/events/details/mohonk-mountain-house-with-reeves-reed-arboretum-14363
END:VEVENT

END:VCALENDAR
