BEGIN:VCALENDAR
VERSION:2.0
PRODID:-//ChamberMaster//Event Calendar 2.0//EN
METHOD:PUBLISH
X-PUBLISHED-TTL:P3D
REFRESH-INTERVAL:P3D
CALSCALE:GREGORIAN
BEGIN:VEVENT
DTSTART:20181004T160000Z
DTEND:20181004T170000Z
X-MICROSOFT-CDO-ALLDAYEVENT:FALSE
SUMMARY:Webinar: Minimize Cyber-Risks of Remote Employees
DESCRIPTION:While remote access allows for greater efficiency by providing offsite employees access your network\, it also increases the risk of cyber intrusion. Businesses providing remote access must understand how to safely implement these programs. Learn about remote access policies including BYOD (bring you own device) and "least privilege"\, utilizing remote desktops and how to create hard to crack passwords.  Registration is free.  Click here to register.
X-ALT-DESC;FMTTYPE=text/html:<span style="font-family:lato-regular\,helveticaneuew01-55roma\,helvetica neue\,helvetica\,arial\,sans-serif\; font-size:14px">While remote access allows for greater efficiency by providing offsite employees access your network\, it also increases the risk of cyber intrusion. Businesses providing remote access must understand how to safely implement these programs. Learn about remote access policies including BYOD (bring you own device) and &quot\;least privilege&quot\;\, utilizing remote desktops and how to create hard to crack passwords.&nbsp\; Registration is free.&nbsp\; Click <a href="https://register.gotowebinar.com/register/6558395937943599373">here </a>to register.</span><br />\n<br />\n<br />\n&nbsp\;
LOCATION:Online
UID:e.870.14486
SEQUENCE:3
DTSTAMP:20260421T010406Z
URL:https://business.suburbanchambers.org/events/details/minimize-cyber-risks-of-remote-employees-14486
END:VEVENT

END:VCALENDAR
