BEGIN:VCALENDAR
VERSION:2.0
PRODID:-//ChamberMaster//Event Calendar 2.0//EN
METHOD:PUBLISH
X-PUBLISHED-TTL:P3D
REFRESH-INTERVAL:P3D
CALSCALE:GREGORIAN
BEGIN:VEVENT
DTSTART:20190302T003000Z
DTEND:20190302T033000Z
X-MICROSOFT-CDO-ALLDAYEVENT:FALSE
SUMMARY:Mike and Ruthy at the Minstrel
DESCRIPTION:Mike Merenda & Ruthy Ungar are the front couple for the great contemporary string band\, "The Mammals". Mike plays guitar and banjo\, and Ruthy plays guitar and fiddle. They play mostly original music\, but maintain their traditional roots with some spirited fiddle tunes of all genres. Opening act Asaran Earth Trio is comprised of Anne Boccato from Brazil\, Artemisz Polonyi from Hungary and Chiara Izzi from Italy. They combine folk elements with improvisation. With only voice and percussion\, they are known to cause groups of strangers to break out in song\, dance\, laugh\, and cry.
X-ALT-DESC;FMTTYPE=text/html:Mike Merenda &amp\; Ruthy Ungar are the front couple for the great contemporary string band\, &quot\;The Mammals&quot\;. Mike plays guitar and banjo\, and Ruthy plays guitar and fiddle. They play mostly original music\, but maintain their traditional roots with some spirited fiddle tunes of all genres. Opening act Asaran Earth Trio is comprised of Anne Boccato from Brazil\, Artemisz Polonyi from Hungary and Chiara Izzi from Italy. They combine folk elements with improvisation. With only voice and percussion\, they are known to cause groups of strangers to break out in song\, dance\, laugh\, and cry.
LOCATION:Morristown Unitarian Fellowship 21 Normandy Heights Road Morristown\, NJ 07960
UID:e.870.15295
SEQUENCE:3
DTSTAMP:20260420T041939Z
URL:https://business.suburbanchambers.org/events/details/mike-and-ruthy-at-the-minstrel-03-01-2019-15295
END:VEVENT

END:VCALENDAR
