BEGIN:VCALENDAR
VERSION:2.0
PRODID:-//ChamberMaster//Event Calendar 2.0//EN
METHOD:PUBLISH
X-PUBLISHED-TTL:P3D
REFRESH-INTERVAL:P3D
CALSCALE:GREGORIAN
BEGIN:VEVENT
DTSTART:20220601T233000Z
DTEND:20220601T233000Z
X-MICROSOFT-CDO-ALLDAYEVENT:FALSE
SUMMARY:MEET THE ARTIST: New Play Readings 2022 @ Vivid Stage
DESCRIPTION:NEW PLAY READINGS: EVERY WEDNESDAY DURING MAY\n\n\n\nVivid Stage's  "Meet the Artist" series is a forum that showcases new theatrical works. The series provides audiences an opportunity to experience new shows and participate in discussions with playwrights\, directors and actors. \n\nThe series's goal is to expose the adult public to the evolution of a theatrical presentation and to give the playwright valuable feedback to be used in the development of the play.\n\n\n\nPLEASE NOTE:\n\nPlays for the 2022 series will be announced in the spring.
X-ALT-DESC;FMTTYPE=text/html:<div>\n<p style="text-align:center"><span style="font-size:14px"><span style="color:rgb(46\, 37\, 31)"><strong>NEW PLAY READINGS: EVERY WEDNESDAY DURING MAY</strong></span></span></p>\n</div>\n\n<div>\n<p style="text-align:center"><span style="font-size:14px"><strong>Vivid Stage&#39\;s &nbsp\;&ldquo\;Meet the Artist&rdquo\; series is a forum that showcases new theatrical works. The series provides audiences an opportunity to experience new shows and participate in discussions with playwrights\, directors and actors.&nbsp\;</strong></span></p>\n\n<p style="text-align:center"><span style="font-size:14px"><strong>The series&rsquo\;s goal is to expose the adult public to the evolution of a theatrical presentation and to give the playwright valuable feedback to be used in the development of the play.</strong></span></p>\n\n<h2 style="text-align:center"><br />\n<span style="font-size:14px"><span style="font-family:open sans condensed\,sans-serif"><span style="color:rgb(255\, 64\, 64)"><strong>PLEASE NOTE:</strong></span><br />\n<span style="color:rgb(41\, 41\, 41)">Plays for the 2022 series will be announced in the spring.</span></span></span></h2>\n</div>\n
LOCATION:Oakes Center 120 Morris Avenue Summit\, NJ 07901
UID:e.870.17542
SEQUENCE:3
DTSTAMP:20260422T184610Z
URL:https://business.suburbanchambers.org/events/details/meet-the-artist-new-play-readings-2022-vivid-stage-06-01-2022-17542
END:VEVENT

END:VCALENDAR
