BEGIN:VCALENDAR
VERSION:2.0
PRODID:-//ChamberMaster//Event Calendar 2.0//EN
METHOD:PUBLISH
X-PUBLISHED-TTL:P3D
REFRESH-INTERVAL:P3D
CALSCALE:GREGORIAN
BEGIN:VEVENT
DTSTART:20190515T230000Z
DTEND:20190516T020000Z
X-MICROSOFT-CDO-ALLDAYEVENT:FALSE
SUMMARY:Meet the Artist New Play Readings
DESCRIPTION:"MEET THE ARTIST" Series presents two new play readings each spring. The readings provide thought-provoking experiences that include the opportunity for audience discussion with the playwright\, director and actors after the performance. It's an entertaining evening that gives audiences a glimpse of the play development process as they provide valuable feedback to the creative teams.
X-ALT-DESC;FMTTYPE=text/html:&ldquo\;MEET THE ARTIST&rdquo\; Series presents two new play readings each spring. The readings provide thought-provoking experiences that include the opportunity for audience discussion with the playwright\, director and actors after the performance. It&rsquo\;s an entertaining evening that gives audiences a glimpse of the play development process as they provide valuable feedback to the creative teams.
LOCATION:Dreamcatcher Repertory Theatre Oakes Center 120 Morris Avenue Summit\, NJ
UID:e.870.14421
SEQUENCE:3
DTSTAMP:20260419T192631Z
URL:https://business.suburbanchambers.org/events/details/meet-the-artist-new-play-readings-05-15-2019-14421
END:VEVENT

END:VCALENDAR
