BEGIN:VCALENDAR
VERSION:2.0
PRODID:-//ChamberMaster//Event Calendar 2.0//EN
METHOD:PUBLISH
X-PUBLISHED-TTL:P3D
REFRESH-INTERVAL:P3D
CALSCALE:GREGORIAN
BEGIN:VEVENT
DTSTART:20190418T230000Z
DTEND:20190418T234500Z
X-MICROSOFT-CDO-ALLDAYEVENT:FALSE
SUMMARY:Maundy Thursday Service
DESCRIPTION:Join us in a quiet time around the Lord's Table\, sharing in the precious meal to which all are welcome\, a meal of love. 7:00 pm in the Chapel (DeForest Avenue entrance)
X-ALT-DESC;FMTTYPE=text/html:Join us in a quiet time around the Lord&#39\;s Table\, sharing in the precious meal to which all are welcome\, a meal of love. 7:00 pm in the Chapel (DeForest Avenue entrance)
LOCATION:The United Methodist Church of Summit - Chapel 17 Kent Place Boulevard Summit\, NJ 07901
UID:e.870.15409
SEQUENCE:3
DTSTAMP:20260420T035407Z
URL:https://business.suburbanchambers.org/events/details/maundy-thursday-service-04-18-2019-15409
END:VEVENT

END:VCALENDAR
