BEGIN:VCALENDAR
VERSION:2.0
PRODID:-//ChamberMaster//Event Calendar 2.0//EN
METHOD:PUBLISH
X-PUBLISHED-TTL:P3D
REFRESH-INTERVAL:P3D
CALSCALE:GREGORIAN
BEGIN:VEVENT
DTSTART:20190302T140000Z
DTEND:20190302T220000Z
X-MICROSOFT-CDO-ALLDAYEVENT:FALSE
SUMMARY:MasterChef JuniorOpen Casting Call
DESCRIPTION:MasterChef Junior on FOX is coming to New York for an open casting call and auditions! We're looking for amazing kids who love to cook or bake from the ages of 8 to 13! For more information and to pre-register go to http://www.masterchefjuniorcasting.com/ Pre-Register Today!
X-ALT-DESC;FMTTYPE=text/html:MasterChef Junior on FOX is coming to New York for an open casting call and auditions! We&#39\;re looking for amazing kids who love to cook or bake from the ages of 8 to 13! For more information and to pre-register go to http://www.masterchefjuniorcasting.com/ Pre-Register Today!
LOCATION:New York City\, NY
UID:e.870.15316
SEQUENCE:3
DTSTAMP:20260420T033939Z
URL:https://business.suburbanchambers.org/events/details/masterchef-junioropen-casting-call-15316
END:VEVENT

END:VCALENDAR
