BEGIN:VCALENDAR
VERSION:2.0
PRODID:-//ChamberMaster//Event Calendar 2.0//EN
METHOD:PUBLISH
X-PUBLISHED-TTL:P3D
REFRESH-INTERVAL:P3D
CALSCALE:GREGORIAN
BEGIN:VEVENT
DTSTART:20230110T003000Z
DTEND:20230110T023000Z
X-MICROSOFT-CDO-ALLDAYEVENT:FALSE
SUMMARY:Maplewood Garden Club’s Monthly Meeting and Speaker’s Program
DESCRIPTION:Maplewood Garden Club presents: "The Magic of a Winter Garden"   Jana Milbocker is the principal of landscape design firm Enchanted Gardens\, a lecturer and author. Join her and Maplewood Garden Club on Monday\, January 9\, at 7:30pm\, when she will share her conviction that the garden can be a magical place - even in winter! Stripped of summer foliage and flowers\, the success of a winter garden lies in its structure\, basic design and choice of plant material. This richly illustrated lecture provides inspiration and tips on designing your garden for winter interest\, choosing the best trees\, shrubs and perennials\, and grouping them to create arresting vignettes. Her presentation will follow a brief business meeting and conclude with a live Q&A session. Her presentation will be hosted virtually. To attend\, consult ?MGC's website  www.maplewoodgardenclub.org  where a Zoom link will be posted.
X-ALT-DESC;FMTTYPE=text/html:Maplewood Garden Club presents: &ldquo\;The Magic of a Winter Garden&rdquo\; &mdash\; Jana Milbocker is the principal of landscape design firm Enchanted Gardens\, a lecturer and author. Join her and Maplewood Garden Club on Monday\, January 9\, at 7:30pm\, when she will share her conviction that the garden can be a magical place - even in winter! Stripped of summer foliage and flowers\, the success of a winter garden lies in its structure\, basic design and choice of plant material. This richly illustrated lecture provides inspiration and tips on designing your garden for winter interest\, choosing the best trees\, shrubs and perennials\, and grouping them to create arresting vignettes. Her presentation will follow a brief business meeting and conclude with a live Q&amp\;A session. Her presentation will be hosted virtually. To attend\, consult ?MGC&rsquo\;s website&mdash\; www.maplewoodgardenclub.org &mdash\;where a Zoom link will be posted.
LOCATION:60 Woodland Road\, Maplewood\, NJ\, USA
UID:e.870.18307
SEQUENCE:3
DTSTAMP:20260421T193253Z
URL:https://business.suburbanchambers.org/events/details/maplewood-garden-club-s-monthly-meeting-and-speaker-s-program-18307
END:VEVENT

END:VCALENDAR
