BEGIN:VCALENDAR
VERSION:2.0
PRODID:-//ChamberMaster//Event Calendar 2.0//EN
METHOD:PUBLISH
X-PUBLISHED-TTL:P3D
REFRESH-INTERVAL:P3D
CALSCALE:GREGORIAN
BEGIN:VEVENT
DTSTART:20190305T003000Z
DTEND:20190305T023000Z
X-MICROSOFT-CDO-ALLDAYEVENT:FALSE
SUMMARY:Maplewood Garden Club Presents “The Plight of the Pollinators—Natives to the Rescue”
DESCRIPTION:We all know the importance of our pollinators and the problems they face. Find out how to make your garden pollinator friendly on Monday\, March 4\, at 7:30 p.m. at Maplewood Memorial Library\, 51 Baker Street\, Maplewood\, when the Maplewood Garden Club hosts John Black\, president of the Native Plant Society of New Jersey. During his presentation\, "The Plight of the Pollinators Natives to the Rescue\," John will cover just what is meant by "native plants" and why our pollinators need them. He will also discuss pollinators in general as well as some of the relatively common plants on which they depend. John's talk follows a short business meeting
X-ALT-DESC;FMTTYPE=text/html:We all know the importance of our pollinators and the problems they face. Find out how to make your garden pollinator friendly on Monday\, March 4\, at 7:30 p.m. at Maplewood Memorial Library\, 51 Baker Street\, Maplewood\, when the Maplewood Garden Club hosts John Black\, president of the Native Plant Society of New Jersey. During his presentation\, &ldquo\;The Plight of the Pollinators&mdash\;Natives to the Rescue\,&rdquo\; John will cover just what is meant by &ldquo\;native plants&rdquo\; and why our pollinators need them. He will also discuss pollinators in general as well as some of the relatively common plants on which they depend. John&rsquo\;s talk follows a short business meeting&nbsp\;
LOCATION:Maplewood Memorial Library\, 51 Baker Street\, Maplewood
UID:e.870.15242
SEQUENCE:3
DTSTAMP:20260420T043211Z
URL:https://business.suburbanchambers.org/events/details/maplewood-garden-club-presents-the-plight-of-the-pollinators-natives-to-the-rescue-15242
END:VEVENT

END:VCALENDAR
