BEGIN:VCALENDAR
VERSION:2.0
PRODID:-//ChamberMaster//Event Calendar 2.0//EN
METHOD:PUBLISH
X-PUBLISHED-TTL:P3D
REFRESH-INTERVAL:P3D
CALSCALE:GREGORIAN
BEGIN:VEVENT
DTSTART:20181001T233000Z
DTEND:20181002T013000Z
X-MICROSOFT-CDO-ALLDAYEVENT:FALSE
SUMMARY:Maplewood Garden Club Presents “The Garden Tourist”
DESCRIPTION:Do you enjoy touring beautiful gardens? If the answer is yes\, be sure to join Maplewood Garden Club on Monday\, October 1\, at 7:30 pm at Maplewood Memorial Library\, when landscape designer Jana Milbocker takes us on a virtual tour of some of the best public gardens and speciality nurseries in the Northeast. During Jana's presentation you will enjoy lovely photographs and learn about each garden's highlights\, history\, and amenities\, as well as the best time to visit. In addition to creating unique and personal gardens for clients\, Jana Milbocker is the author of "The Garden Tourist: 120 Destination Gardens and Nurseries in the Northeast." Her presentation follows a short business meeting and is free and open to all.
X-ALT-DESC;FMTTYPE=text/html:Do you enjoy touring beautiful gardens? If the answer is yes\, be sure to join Maplewood Garden Club on Monday\, October 1\, at 7:30 pm at Maplewood Memorial Library\, when landscape designer Jana Milbocker takes us on a virtual tour of some of the best public gardens and speciality nurseries in the Northeast. During Jana&rsquo\;s presentation you will enjoy lovely photographs and learn about each garden&rsquo\;s highlights\, history\, and amenities\, as well as the best time to visit. In addition to creating unique and personal gardens for clients\, Jana Milbocker is the author of &quot\;The Garden Tourist: 120 Destination Gardens and Nurseries in the Northeast.&quot\; Her presentation follows a short business meeting and is free and open to all.&nbsp\;
LOCATION:Maplewood Memorial Library\, 51 Baker Street\, Maplewood
UID:e.870.14366
SEQUENCE:3
DTSTAMP:20260421T011721Z
URL:https://business.suburbanchambers.org/events/details/maplewood-garden-club-presents-the-garden-tourist-14366
END:VEVENT

END:VCALENDAR
