BEGIN:VCALENDAR
VERSION:2.0
PRODID:-//ChamberMaster//Event Calendar 2.0//EN
METHOD:PUBLISH
X-PUBLISHED-TTL:P3D
REFRESH-INTERVAL:P3D
CALSCALE:GREGORIAN
BEGIN:VEVENT
DTSTART:20180917T233000Z
DTEND:20180918T013000Z
X-MICROSOFT-CDO-ALLDAYEVENT:FALSE
SUMMARY:Maplewood Garden Club Presents “The Ever Curious Gardener: Using a Little Natural Science for a Much Better Garden”
DESCRIPTION:Maplewood Garden Club kicks off its 2018 19 speakers program on Monday\, September 17\, at 7:30 p.m. at Maplewood Memorial Library\, 51 Baker Street\, Maplewood\, when Lee Reich avid gardener\, scientist\, and author presents "The Ever Curious Gardener: Using a Little Natural Science for a Much Better Garden." Offering insight and practical guidance\, Lee will cover topics from his new book\, The Ever Curious Gardener\, such as helping plants thrive during drought\, water movement in soil\, soil acidity\, and pruning basics all with very practical application in the backyard. This presentation is ideal for newer gardeners who are moving beyond back-of-the-seed-pack planting as well as experienced gardeners whose curiosity at the wonders of cultivation grows deeper and stronger with each season. Lee Reich's talk follows a short business meeting and is free and open to all. http://www.maplewoodgardenclub.org / https://www.facebook.com/MaplewoodGardenClub / www.leereich.com
X-ALT-DESC;FMTTYPE=text/html:Maplewood Garden Club kicks off its 2018 19 speakers program on Monday\, September 17\, at 7:30 p.m. at Maplewood Memorial Library\, 51 Baker Street\, Maplewood\, when Lee Reich&mdash\;avid gardener\, scientist\, and author&mdash\;presents &ldquo\;The Ever Curious Gardener: Using a Little Natural Science for a Much Better Garden.&rdquo\; Offering insight and practical guidance\, Lee will cover topics from his new book\, The Ever Curious Gardener\, such as helping plants thrive during drought\, water movement in soil\, soil acidity\, and pruning basics&mdash\;all with very practical application in the backyard. This presentation is ideal for newer gardeners who are moving beyond back-of-the-seed-pack planting as well as experienced gardeners whose curiosity at the wonders of cultivation grows deeper and stronger with each season. Lee Reich&rsquo\;s talk follows a short business meeting and is free and open to all. http://www.maplewoodgardenclub.org / https://www.facebook.com/MaplewoodGardenClub / www.leereich.com
LOCATION:Maplewood Memorial Library\, 51 Baker Street\, Maplewood
UID:e.870.14286
SEQUENCE:3
DTSTAMP:20260421T011722Z
URL:https://business.suburbanchambers.org/events/details/maplewood-garden-club-presents-the-ever-curious-gardener-using-a-little-natural-science-for-a-much-better-garden-14286
END:VEVENT

END:VCALENDAR
