BEGIN:VCALENDAR
VERSION:2.0
PRODID:-//ChamberMaster//Event Calendar 2.0//EN
METHOD:PUBLISH
X-PUBLISHED-TTL:P3D
REFRESH-INTERVAL:P3D
CALSCALE:GREGORIAN
BEGIN:VEVENT
DTSTART:20190408T233000Z
DTEND:20190409T013000Z
X-MICROSOFT-CDO-ALLDAYEVENT:FALSE
SUMMARY:Maplewood Garden Club Presents “The Bountiful Herb Garden”
DESCRIPTION:Join the Maplewood Garden Club on Monday\, April 8\, at 7:30 p.m. at Maplewood Memorial Library\, 51 Baker Street\, Maplewood\, when Caren White\, the Garden Steward of Rutgers Herb Garden and a lifelong gardener\, presents "The Bountiful Herb Garden." In addition to explaining how to plant and care for herbs\, Caren will discuss why timing and technique are the keys to maximizing the harvest from herb gardens\; the best time to harvest the plants\; the optimal methods to harvest leaves\, flowers\, seeds\, and roots\; and how to preserve them for future use. Caren's talk follows a short business meeting and is free and open to all. No RSVP is required. http://www.maplewoodgardenclub.org / https://www.facebook.com/MaplewoodGardenClub / http://www.advicefromtheherblady.com
X-ALT-DESC;FMTTYPE=text/html:Join the Maplewood Garden Club on Monday\, April 8\, at 7:30 p.m. at Maplewood Memorial Library\, 51 Baker Street\, Maplewood\, when Caren White\, the Garden Steward of Rutgers Herb Garden and a lifelong gardener\, presents &ldquo\;The Bountiful Herb Garden.&rdquo\; In addition to explaining how to plant and care for herbs\, Caren will discuss why timing and technique are the keys to maximizing the harvest from herb gardens\; the best time to harvest the plants\; the optimal methods to harvest leaves\, flowers\, seeds\, and roots\; and how to preserve them for future use. Caren&rsquo\;s talk follows a short business meeting and is free and open to all. No RSVP is required. http://www.maplewoodgardenclub.org / https://www.facebook.com/MaplewoodGardenClub / http://www.advicefromtheherblady.com
LOCATION:Maplewood Memorial Library\, 51 Baker Street\, Maplewood
UID:e.870.15315
SEQUENCE:3
DTSTAMP:20260420T000946Z
URL:https://business.suburbanchambers.org/events/details/maplewood-garden-club-presents-the-bountiful-herb-garden-15315
END:VEVENT

END:VCALENDAR
