BEGIN:VCALENDAR
VERSION:2.0
PRODID:-//ChamberMaster//Event Calendar 2.0//EN
METHOD:PUBLISH
X-PUBLISHED-TTL:P3D
REFRESH-INTERVAL:P3D
CALSCALE:GREGORIAN
BEGIN:VEVENT
DTSTART:20190108T003000Z
DTEND:20190108T023000Z
X-MICROSOFT-CDO-ALLDAYEVENT:FALSE
SUMMARY:Maplewood Garden Club Presents “Everything You Ever Wanted to Know About Houseplants”
DESCRIPTION:Houseplants are just like us they need food\, water\, and a little bit of vitamin D. Join Maplewood Garden Club on Monday\, January 7\, at 7:30 p.m. at Maplewood Memorial Library\, 51 Baker Street\, Maplewood for a fun talk\, in which you'll learn how to keep your indoor plants thriving. Stephen Barlow\, the second-generation owner of Barlow's Flower Farm in Sea Girt and named one of the "Top 40 Growers Under 40" by Greenhouse Product News\, will fill you in on everything you need to know about houseplants\, including watering needs\, fertilizing\, light requirements\, repotting\, and more. During his talk\, "Everything You Ever Wanted to Know About Houseplants\," Stephen will explain how to select the best plants for each type of lighting situation\, focusing on low light\, indirect light\, and bright light. Get your green on this winter and breathe easy with the best houseplants for your home! His talk follows a short business meeting and is free and open to all. No RSVP is required. http://www.maplewoodgardenclub.org / https://www.facebook.com/MaplewoodGardenClub / http://www.barlowflowerfarm.com
X-ALT-DESC;FMTTYPE=text/html:Houseplants are just like us&mdash\;they need food\, water\, and a little bit of vitamin D. Join Maplewood Garden Club on Monday\, January 7\, at 7:30 p.m. at Maplewood Memorial Library\, 51 Baker Street\, Maplewood for a fun talk\, in which you&rsquo\;ll learn how to keep your indoor plants thriving. Stephen Barlow\, the second-generation owner of Barlow&rsquo\;s Flower Farm in Sea Girt and named one of the &ldquo\;Top 40 Growers Under 40&rdquo\; by Greenhouse Product News\, will fill you in on everything you need to know about houseplants\, including watering needs\, fertilizing\, light requirements\, repotting\, and more. During his talk\, &ldquo\;Everything You Ever Wanted to Know About Houseplants\,&rdquo\; Stephen will explain how to select the best plants for each type of lighting situation\, focusing on low light\, indirect light\, and bright light. Get your green on this winter and breathe easy with the best houseplants for your home! His talk follows a short business meeting and is free and open to all. No RSVP is required. http://www.maplewoodgardenclub.org / https://www.facebook.com/MaplewoodGardenClub / http://www.barlowflowerfarm.com
LOCATION:Maplewood Memorial Library\, 51 Baker Street\, Maplewood
UID:e.870.14812
SEQUENCE:3
DTSTAMP:20260420T120053Z
URL:https://business.suburbanchambers.org/events/details/maplewood-garden-club-presents-everything-you-ever-wanted-to-know-about-houseplants-14812
END:VEVENT

END:VCALENDAR
