BEGIN:VCALENDAR
VERSION:2.0
PRODID:-//ChamberMaster//Event Calendar 2.0//EN
METHOD:PUBLISH
X-PUBLISHED-TTL:P3D
REFRESH-INTERVAL:P3D
CALSCALE:GREGORIAN
BEGIN:VEVENT
DTSTART:20190506T233000Z
DTEND:20190507T013000Z
X-MICROSOFT-CDO-ALLDAYEVENT:FALSE
SUMMARY:Maplewood Garden Club Presents “Drama Queens: Dark Beauties for Your Garden”
DESCRIPTION:To create rhythm\, punctuate place\, outline areas\, and focus the eye\, nothing works like black. But keep the drama out of your house and in the garden! On Monday\, May 6\, at 7:30 p.m. at Maplewood Memorial Library\, 51 Baker Street\, Maplewood\, Lesley Parness\, retired superintendent of Horticultural Education at the Morris County Park Commission\, will explain how to use black-hued plants for maximum impact. During her presentation\, "Drama Queens: Dark Beauties for Your Garden\," Lesley will feature more than 75 dark beauties\, including annuals\, perennials\, vines\, trees\, and shrubs\, and cover their habit and culture. She will also provide a useful list of these powerful plants. Lesley's talk follows a short business meeting and is free and open to all. No RSVP is required. http://www.maplewoodgardenclub.org / https://www.facebook.com/MaplewoodGardenClub / http://www.lesleyparness.com
X-ALT-DESC;FMTTYPE=text/html:To create rhythm\, punctuate place\, outline areas\, and focus the eye\, nothing works like black. But keep the drama out of your house and in the garden! On Monday\, May 6\, at 7:30 p.m. at Maplewood Memorial Library\, 51 Baker Street\, Maplewood\, Lesley Parness\, retired superintendent of Horticultural Education at the Morris County Park Commission\, will explain how to use black-hued plants for maximum impact. During her presentation\, &ldquo\;Drama Queens: Dark Beauties for Your Garden\,&rdquo\; Lesley will feature more than 75 dark beauties\, including annuals\, perennials\, vines\, trees\, and shrubs\, and cover their habit and culture. She will also provide a useful list of these powerful plants. Lesley&rsquo\;s talk follows a short business meeting and is free and open to all. No RSVP is required. http://www.maplewoodgardenclub.org / https://www.facebook.com/MaplewoodGardenClub / http://www.lesleyparness.com
LOCATION:Maplewood Memorial Library\, 51 Baker Street\, Maplewood
UID:e.870.15399
SEQUENCE:3
DTSTAMP:20260419T192810Z
URL:https://business.suburbanchambers.org/events/details/maplewood-garden-club-presents-drama-queens-dark-beauties-for-your-garden-15399
END:VEVENT

END:VCALENDAR
